BEGIN:VCALENDAR
VERSION:2.0
PRODID:-//hacksw/handcal//NONSGML v1.0//EN
BEGIN:VEVENT
UID:92ztu0vklpi2
DTSTART:20141228T100000
SUMMARY:III Trail-Running y Andaina de Orientación de Orro
URL:https://fegado.es/events/view/92ztu0vklpi2/
DESCRIPTION:O vindeiro día 28 de decembro na localidade de Orro (Culleredo)\, e organizado por ADTL A Pedrosa e o Clube Gallaecia Raid terá lugar o III Trail Running e a III Andaina con orientación de Orro. O Trail Running é de carácter competitivo e haberá trofeos para os tres primeiros clasificados tanto masculinos como femininos. Distancias e desnivel: Trail-running: 17 km con 550 metros de desnivel positivo Andaina: 8 km con 300 metros de desnivel positivo Prezos : Realizando inscrición antes o 19 de decembro ás 24:00 horas 9* euros con licenza fedo o trail running 6* euros con licenza fedo a andaina (os menores de idade non pagarán inscripción\, só o seguro) *Aqueles que non teñan licenza fedo terán que pagar 2 euros a maiores para cubrir a licenza de día ( Nota importante: non vale ningunha outra licenza\, polo simple feito de que non cubriría o evento xa que os seguros só fanse cargo dos accidentes que se producen no seu deporte concreto). Doaremos 1? solidario da túa inscripción a unha ONG do Concello de Culleredo Realizando inscrición entre o 20 de decembro e o 23 de decembro ás 22 horas 12* euros con licenza fedo o trail running 7* euros con licenza fedo a andaina (os menores de idade non pagarán inscripción\, só o seguro) Aqueles que non teñan licenza fedo terán que pagar 2 euros a maiores para cubrir a licenza de día ( Nota importante: non vale ningunha outra licenza\, polo simple feito de que non cubriría o evento xa que os seguros só fanse cargo dos accidentes que se producen no seu deporte concreto). Doaremos 1? solidario da túa inscripción a unha ONG do Concello de Culleredo Inscricións e información: A PARTIR DO DÍA 1 DE DECEMBRO www.gallaeciaraid.es Horarios das probas: Saída do trail-running con orientación: 10:00 horas (o horario de secretaría para recoller os dorsais e tarxeta de control comeza ás (8:30 e remata ás 9:30) Saída da andaina con orientación: 10:15 horas (entregar a autorización en secretaría para os menores antes das 9:45) Material obrigatorio trail-running e andaina:- Mochila de hidratación ou bidón de como mínimo 400 cc. (na andaina non é obrigatorio pero é recomendable levar algo de auga ou sales\, no km. 3 hai un avituallamiento).- Cortaventos (dependendo do tempo que faga o día da proba poderá decidirse por parte da organización o non ser material obligatorio)- O compás aínda que non é obrigatorio si é moi recomendable- Teléfono móbil acendido o cal ha de facilitarse á organización no momento da inscrición
END:VEVENT
BEGIN:VEVENT
UID:hq98oypp9lmw
DTSTART:20150110T000000
SUMMARY:V O-PIE NOCTURNA CASA DE SIXTO
URL:https://fegado.es/events/view/hq98oypp9lmw/
DESCRIPTION: LA YA CLÁSICA NOCTURNA ORGANIZADA POR CLUB GALLAECIA RAID. SE TRATA DE UN EVENTO DE PROMOCIÓN DE LA ORIENTACIÓN CON CARÁCTER DEPORTIVO Y LÚDICO-FESTIVO\, PUES DESPUÉS LOS QUE QUIERAN PODRÁN QUEDARSE A LA YA MÍTICA CENA\, DONDE CONFRATERNIZAREMOS\, CANTAREMOS Y LO QUE SE TERCIE. RECORRIDOS: -SENIOR MASCULINO Y FEMENINO LARGA 11 KMS.-SENIOR MASCULINO Y FEMENINO CORTA 5 KMS. (EN ESTA CATEGORÍA PODRÁN PARTICIPAR MENORES ACOMPAÑADOS DE SUS PADRES-MENORES DE 12 AÑOS 2 KMS. PRIMERAS SALIDAS A LAS 19:00MATERIAL OBLIGATORIO: FRONTAL CON PILAS\, BRÚJULA\, CHALECO REFLECTANTE. INSCRIPCIONES EN WWW.TRACKTHERACE.COMSE ABRIRÁN EL 25 DE NOVIEMBREPRECIOS:RECORRIDOS LARGO Y CORTO: 6 EUROS + 2 AQUELLOS QUE NO TENGAN LICENCIA FEGADO EN VIGOR. RECORRIDO INFANTIL GRATIS + 2 EUROS LOS QUE NO TENGAN LICENCIA FEGADO EN VIGOR. AL FINAL HABRÁ UNA CENA A LA QUE OS PODRÉIS APUNTAR EN EL FORMULARIO DE INSCRIPCIÓN. PRECIO DE LA CENA 20 EUROS ADULTOS Y 10 LOS NIÑOS. LOS QUE TENGAN DOS NIÑOS SOLO PAGARÁN POR UNO. DISPONDRÉIS DE DUCHAS EN EL LOCAL SOCIAL DE SAN PANTALEÓN DAS VIÑASPUBLICACIONES
END:VEVENT
BEGIN:VEVENT
UID:7ngwcnxp1oye
DTSTART:20150221T103000
SUMMARY:Liga gallega O-Pie. Campeonato gallego
URL:https://fegado.es/events/view/7ngwcnxp1oye/
DESCRIPTION:22/02/2015. Así se pudo ver en Internet. Animación\, donde cada frame representa 5 minutos reales\, que representa la evolución de los corredores a través de los 2 puntos de control con seguimiento vía radio y el orden de llegada a meta.Ver Animación ÉliteVer Animación H-35 y H-21L20/02/2015. Seguimiento en tiempo real. En la medida en que la climatología y las comunicaciones lo permitan\, a través de internet se podrá realizar un seguimiento en tiempo real de los resultados de la prueba. Esto incluye el paso por 2 puntos intermedios para los recorridos 10\, 11 y 12.19/02/2015. Publicados los listados de salida.13/02/2015. Añadido boletín 1 con toda la información de la prueba: horarios\, recorridos\, inscripciones\, terreno\, etc. También se adjunta el documento de especificaciones técnicas de la FEGADO para este 2015\, donde se puede ver la agrupación de categorías en recorridos.Coordenadas de interés para esta prueba:- Centro de competición (INEF): -8.3590\; 43.3402 (UTM zona 29T 551950\; 4798800)- Aparcamiento público exterior: -8.3598\; 43.3389 (UTM zona 29T 551890\; 4798650)- Salida 1 (estadio INEF): -8.3563\; 43.3388 (UTM zona 29T 552170\; 4798650)- Salida 2 (Santa Cruz): -8.3466\; 43.3487 (UTM zona 29T 552950\; 4799750). Esta salida será desde la isla del castillo. Estará señalizado siguiendo la acera de la carretera principal\; distancia algo inferior a 2Km\; tiempo aproximado andando: 25 minutos09/02/2015. Activado de nuevo el procedimiento de inscripción.03/02/2015. Se desactiva temporalmente el procedimiento de inscripción hasta que se hayan asignado los dorsales para la temporada\, con el objetivo de que cuando los participantes se inscriban ya cuenten con todos los datos necesarios. Se volverá a activar durante esta misma semana.El Campeonato Gallego está organizado este año por el Club APA Liceo y la UDC. Tendrá lugar en Bastiagueiro\, Oleiros (A Coruña)\, tomando como centro de competición las instalaciones del INEF.
END:VEVENT
BEGIN:VEVENT
UID:grzc6ob46v7m
DTSTART:20150311T103000
SUMMARY:O-Pie. Campeonato escolar provincial. Pontevedra
URL:https://fegado.es/events/view/grzc6ob46v7m/
DESCRIPTION: Aqueles colexios que queiran participar deben rexistrar o equipo de orientación no Deporte Escolar da Xunta de Galicia e enviar o formulario de inscrición debidamente cuberto a aromon@aromon.es con copia a coordinadordeporescolar.po@gmail.com
END:VEVENT
BEGIN:VEVENT
UID:h3qau2vfmhhs
DTSTART:20150314T110000
SUMMARY:Liga gallega O-Pie. VIII Trofeo de Orientación "Camiño do Inverno\, Terras de Valdeorras"
URL:https://fegado.es/events/view/h3qau2vfmhhs/
DESCRIPTION:15/03 se publican resultados.12/03 Se publican horas de salida por clubs.Listado de aceptados en guardería.10/03 Se publica "terreno\, categorías y distancias"\, "prevención de riesgos" e "incidencias SportIdent".07/03 Se publican normas de la guardería.01/03 Se publica cartel y boletín de la prueba. Habrá 2 salidas diferenciadas por recorridos\, una a 700 metros (recorridos del 0 al 7) y otra a un poco menos de 2Km (recorridos 8 al 12).25/02 Hora cero: 11:0018/02. El Club Peña Trevinca Barco organiza la 2ª prueba de la XXIV liga gallega de orientación a pie en el mapa de Entoma. Ya iremos poniendo mas información.Los corredores independientes que deseen realizar la inscricipción y pago deben esperar a la publicación del primer boletín\, que incluirá toda esta información. 
END:VEVENT
BEGIN:VEVENT
UID:besuaprhh317
DTSTART:20150321T100000
SUMMARY:I Raid de Orientación "Concello de Cariño" (21 marzo 2015)
URL:https://fegado.es/events/view/besuaprhh317/
DESCRIPTION:Publicadas as clasificacións provisionais. Para reclamacións\, enviar un correo a:clubbrigantiaaventura@gmail.com asunto: reclamación- "nome do equipo"Ata o sábado 28 de marzo.RECLAMACIÓNS ADMITIDAS A DÍA 26.03.15.ÉLITE: GALLAECIA SENDA VERDE AVENTURA: FLUVIAL LUGO MUSTALLARTemos aberto un evento en facebook\, onde subiremos os enlaces das fotos.https://www.facebook.com/events/773433696059357/?ref=ts&amp\;fref=tsSaudos e esperámosvos.
END:VEVENT
BEGIN:VEVENT
UID:6za6gqruolii
DTSTART:20150326T103000
SUMMARY:O-Pie. Campeonato escolar provincial. Ourense
URL:https://fegado.es/events/view/6za6gqruolii/
DESCRIPTION:26/03 Se publican resultados.Aqueles colexios que queiran participar deben rexistrar o equipo de orientación no programa de Deporte Escolar da Xunta de Galicia e enviar o formulario de inscrición debidamente cuberto a fegadourense@gmail.com con copia a deportes.ourense@xunta.es. Esperamos a vosa participación. 
END:VEVENT
BEGIN:VEVENT
UID:fvj62ee7iirl
DTSTART:20150328T103000
SUMMARY:ORI TROFEO EL PROGRESO-CIDADE DE LUGO 2015
URL:https://fegado.es/events/view/fvj62ee7iirl/
DESCRIPTION:ORI a péPROBA 3 LIGA GALEGA 2015Para FEDERADOS e NON FEDERADOS
END:VEVENT
BEGIN:VEVENT
UID:dyx1gs9vex1d
DTSTART:20150411T103000
SUMMARY:Campeonato Galego Universitario 
URL:https://fegado.es/events/view/dyx1gs9vex1d/
DESCRIPTION:O Campeonato Galego Universitario está organizado este ano pola USC. Terá lugar no Monte Pedroso\, Santiago de Compostela\, tomando como centro de competición o parque da Granxa do Xesto.As inscricións faranse a través dos servizos de deportes das 3 universidades galegas.ACTUALIZACIÓN 1/ABRIL: adicionalmente organizarase un adestramento para orientadores federados\, co mesmo percorrido do campeonato oficial. Ver sección de INSCRICIÓNS no Boletín engadidoACTUALIZACIÓN 9/MAIO: publicados os listados de saídas. O cpto. universitario comezará as 10:30\, e o adestramento as 12:00
END:VEVENT
BEGIN:VEVENT
UID:dpjx7ccmnnur
DTSTART:20150416T103000
SUMMARY:O-Pie. Campeonato escolar provincial. A Coruña
URL:https://fegado.es/events/view/dpjx7ccmnnur/
DESCRIPTION: 
END:VEVENT
BEGIN:VEVENT
UID:ek44o5isdbxz
DTSTART:20150418T100000
SUMMARY:VII Raid Odiseo [CANCELADO]
URL:https://fegado.es/events/view/ek44o5isdbxz/
DESCRIPTION:Por cuestións alleas á nosa vontade\, e cunha gran pena\, vémonos na obriga de suspender o VII Raid Odiseo.Esperamos non causar un disgusto moi grande a todos os deportistas ansiosos de chegara este acontecemento como auga de abril.De todo se aprende un pouco\, e cos fracasos moito máis\, así que agardamos que a seguinte proba que organicemos sexa como mínimo o doble de boa que esta que estamos a cancelar.Dende o club\, un saúdo a todos os que participades na Federación Galega de Orientación. 
END:VEVENT
BEGIN:VEVENT
UID:7jv19hdborwf
DTSTART:20150422T100000
SUMMARY:O-pé: CAMPIONATO ESCOLAR PROVINCIAL DE LUGO 2015
URL:https://fegado.es/events/view/7jv19hdborwf/
DESCRIPTION:CAMPIONATO ESCOLAR PROVINCIAL DE LUGO 2015 DE ORIENTACIÓN a pé.
END:VEVENT
BEGIN:VEVENT
UID:88l8989tw7s0
DTSTART:20150509T100000
SUMMARY:Campeonato Ibérico Feminino-Pontevedra (Media-Sprint)
URL:https://fegado.es/events/view/88l8989tw7s0/
DESCRIPTION:Os días 9 e 10 de maio celebraremos en Pontevedra un gran evento de Orientación a Pé. Constará de una carreira de distancia longa\, outra de distancia media e un Sprint. Constituirá o Campeonato Ibérico Feminino\, disputarase o trofeo "PONTEaORIENTAR 2015"\, puntuará para a Liga Española\, para a liga Portuguesa\, e tamén para a Liga Galega aplicándose o factor de organización a todos aqueles que rematen correctamente o seu percorrido nas distancias longa e media.-Inscricións federados pola web da FEDO-Inscricións non federados por ORIENTEERINGONLINETODA A INFORMACIÓN EN www.aromon.es
END:VEVENT
BEGIN:VEVENT
UID:xv7qsvlu1zsy
DTSTART:20150510T090000
SUMMARY:Campeonato Ibérico Feminino-Pontevedra (Longa)
URL:https://fegado.es/events/view/xv7qsvlu1zsy/
DESCRIPTION:TODA A INFORMACIÓN EN www.aromon.es 
END:VEVENT
BEGIN:VEVENT
UID:syq5zdhgx1ry
DTSTART:20150523T103000
SUMMARY:6ª Prueba LG en Forgoselo
URL:https://fegado.es/events/view/syq5zdhgx1ry/
DESCRIPTION: Una vez más la sección de orientación de Ártabros organiza la prueba en el mejor mapa de orientación de Galicia \, FORGOSELO.Ya estamos trabajando para prepararos una prueba en la disfrutéis de la Orientación. Como en años anteriores Javier Sevilla será el encargado de los trazados.Para cualquier duda\, poneros en contacto con alfonsomancera@gmail.com 
END:VEVENT
BEGIN:VEVENT
UID:0egh3giinmwx
DTSTART:20150606T103000
SUMMARY:XIV TROFEO UNIVERSIDADE DE VIGO
URL:https://fegado.es/events/view/0egh3giinmwx/
DESCRIPTION:A Universidade de Vigo\, a través do Servizo de Deportes organiza o XIV Trofeo Universidade de Vigo de Carreiras de Orientación (6ª proba do calendario oficial da Liga Galega 2015).As persoas interesadas en participar dispoñen dun amplo abano de recorridos con diferentes niveis de dificultade polo que é accesible tanto para as persoas federadas como para aquelas sen experiencia previa nesta modalidade.Esta edición forma parte tamén do Campionato autonómico escolar.Como en anteriores ocasións esperamos contar coa vosa participación. Moitas grazas e boa carreira!!! 
END:VEVENT
BEGIN:VEVENT
UID:7566lpc86592
DTSTART:20150613T100000
SUMMARY:RAID DE FERROL 2015
URL:https://fegado.es/events/view/7566lpc86592/
DESCRIPTION:Enlace a las fotos del RAID:https://picasaweb.google.com/107084328238189564316/IIIRAIDCIDADEDEFERROL?feat=emailNuestro agradecimiento a nuestros amigos del Club de Fotografía Grupo Bazan.
END:VEVENT
BEGIN:VEVENT
UID:85qbhtvd8ndu
DTSTART:20150620T103000
SUMMARY:I Trofeo de Orientación La Región. 6ª proba de liga gallega. Ourense
URL:https://fegado.es/events/view/85qbhtvd8ndu/
DESCRIPTION:18/06. Listados de salida por clubs.16/06 Fotos do terreno. Boletín 2. Controis e distancias. Incidencias SportIdent13/06 Duchas no Complexo Deportivo de Monterrei.07/06 O CLUB PEÑA TREVINCA BARCO e a A.D.LIMIACTIVA organizan a 6ª proba da Liga Galega. Para tal ocasión elexiuse a zona de A Montealegre. Un monte situado ó sureste da cidade de Ourense\, a tan só tres quilómetros do centro urbán.O mapa para a competición ocupa a parte alta do monte\, xunto o Campo de Golf de Montealegre e a urbanización do mesmo nome.Se publica boletín 106/06 Se publica cartel 
END:VEVENT
BEGIN:VEVENT
UID:5a3bo76s2vqt
DTSTART:20150627T103000
SUMMARY:Liga gallega O-BM. I Trofeo Concello Porto do Son
URL:https://fegado.es/events/view/5a3bo76s2vqt/
DESCRIPTION:RESULTADOS. Xa tendes os resultados provisionais publicados. ATENCIÓN debido a uns pequenos problemas técnicos TODOLOS MAPAS ESTÁN EN ESCALA 1:15.000. 1ª proba da III Liga Galega de OBM. Presentamos con moita ilusión a primeira proba 2015 da modaliade de OBM. Estamos traballando para presentarvos unha proba atractiva\, que combina zonas moi rápidas e zonas de monte típicamente galego. O desnivel vai a ser un aspecto a ter en conta.Hai\, na zona de competición\, unha extensa rede de camiños\, a maior parte de moi boa ciclabilidade. 
END:VEVENT
BEGIN:VEVENT
UID:drmf7enmn0t9
DTSTART:20150704T103000
SUMMARY:Liga galega O-Pé. Barbanza-Boiro
URL:https://fegado.es/events/view/drmf7enmn0t9/
DESCRIPTION:Este ano esperamos ter un tempo máis "normal"\, e que así podades disfrutar plenamente da proba e do mapa.Actualización: Publicada información dos percorridos. Carreira de distancia mediaActualización a xoves 2 de Xullo: Publicadas as horas de saída.IMPORTANTE: Os percorridos P-9\, P-11 e P-12 inclúen volvoretas\, polo tanto\, os corredores destes percorridos deben asegurarse na saída de coller o mapa que lle corresponde segundo o publicado nas horas de saída (P-9a\, P-9b\, P-11a\, P-11b\, P-11c\, P-12a\, P-12b ou P-12c)Presaída de 8 minutos.Conforme ó Boletín 2\, ó final do apartado "PERCORRIDOS"\, os horarios de saída dos percorridos están adaptados para evitar concentracións e coincidencias. Isto implica que as preferencias de saída que normalmente fanse están restrinxidas ó horario establecido para cada percorrido concreto. Agardamos que desculpades as molestias que vos poida ocasionar. 
END:VEVENT
BEGIN:VEVENT
UID:giornwfujr6t
DTSTART:20150912T090000
SUMMARY:1º BUDIÑORAID-TERRAS do LOURO_3ª proba da Liga Galega de Raids 2015
URL:https://fegado.es/events/view/giornwfujr6t/
DESCRIPTION:3ª proba da Liga Galega de Raids de Orientación a celebrar nas TERRAS DO LOURO\, nos concellos de O Porriño\, Salceda de Caselas e Tui. O primeiro evento organizado pola sección de Orientación da Asociación Deportiva A FORNA de Budiño\, o BUDIÑORAID\, é un ambicioso proxecto que implica a tres dos concellos polos que discorre o Río que lle vai dar nome a esta edición.As Gándaras de Budiño\, o Faro de Budiño e o Faro de Cans no Concello de O Porriño\, a Senda do Caselas\, o Monte de San Cibrán e o Espicho do Faro de Entenza no Concello de Salceda e as Veigas do Louro\, ou o Río Miño son algúns dos preciosos espazos naturais existentes na zona polos que vai a discorrer esta primeira edición do noso Raid.Un raid de longa duración xa que vai ter un percorrido de uns 100 km. de distancia repartidos en 7 sectores ó longo das 10 horas de competición que non vai a deixar indiferente a ninguén.Dende a organización esperamos que todos os amantes deste deporte de Aventura\, dende os mais experimentados competidores na liga autonómica\, así como os mais novatos e inexpertos xa que imos a contar tamén con unha categoría de iniciación\, vos acheguedes a disfrutar con nós do primer evento de este tipo que se celebra na zona para disfrutar de unha experiencia inesquencible en un entorno inigualable.Achégate de disfrútao !!!!
END:VEVENT
BEGIN:VEVENT
UID:50j3wa4xin39
DTSTART:20150926T093000
SUMMARY:1º Raid Vila das Neves - Marqués de Vizhoja "Campionato Galego"
URL:https://fegado.es/events/view/50j3wa4xin39/
DESCRIPTION:El Club Cornelios Raid organizará el sábado 26 de septiembre el I RAID VILA DAS NEVES ? MARQUÉS de VIZHOJA\, raid que supone la 4ª prueba del calendario de la Liga Gallega de raids de aventura y además el Campeonato Gallego de raids de aventura 2015.La prueba recorrerá exclusivamente el Concello de As Neves (Pontevedra)\, siendo la primera vez que se celebra una carrera de este tipo en este ayuntamiento. Esperamos así que los corredores habituales de estas carreras sientan la atracción de correr en estos nuevos mapas y en un entorno diferente. As Neves se encuentra en el interior meriodinal de la provincia de Pontevedra\, ubicado en la comarca de O Condado\, está unido estrechamente al río Miño\, que a lo largo de 10 km le sirve de límite natural con Portugal. Además de espacio de ocio\, con áreas recreativas y playas fluviales como las de Guláns\, Santa Mariña y Ceña.El municipio de As Neves está enmarcado por las elevaciones de los Montes de Paradanta en el sector septentrional y el río Miño en el meridional. Las huellas de su pasado han quedado en numerosos lugares como A Pedra da Moura en Taboexa y Monte das Carboeiras en Liñares\, donde se encontraron mámoas y petroglifos.Los ríos del municipio son la delicia de los amantes de la pesca\, que encuentran especies como lamprea\, anguila\, sable\, salmón y truchas en el río Terme. El bello paisaje de estas tierras invitan a pasear por diversas rutas\, donde podremos descubrir hórreos\, cruceiros\, puentes e incluso observar\, en las zonas más elevadas\, manadas de caballos salvajes. La gastronomía destaca por los productos típicos y naturales de la zona. La especialidad es el requesón\, la lamprea y la angula acompañados de los exquisitos vinos que se cultivan en las riberas del Miño y que están incluidos en la denominación de origen Rías Baixas\, subzona O Condado (comprende los municipios de Ponteareas\, As Neves\, Mondariz\, Mondariz Balneario y Salvaterra de Miño)El nombre de O Condado le viene de los Condes de Salvaterra y antiguamente también era conocido bajo el nombre de Condado del Tea\, en referencia al río que nace en la Sierra de Avión y que en sus 50 Km. de curso fluvial modela la geografía de la comarca con sus numerosos afluentes.El entorno natural se caracteriza por presentar sucesión de bloques elevados y depresiones\; la depresión del Tea es la más importante y extensa de la comarca. Entre los relevos montañosos están en el este la sierra del Suído y los montes de la Paradanta y en el oeste la sierra del Galleiro. 
END:VEVENT
BEGIN:VEVENT
UID:zqioyrr9bb2q
DTSTART:20151003T100000
SUMMARY:SONraider 2015. Liga gallega Raids. Porto do Son
URL:https://fegado.es/events/view/zqioyrr9bb2q/
DESCRIPTION:Unha vez rematado o Raid\, so nos queda felicitar a tódolos participantes e agradecerlles a súa colaboración para que o evento se puidese celebrar sin incidencias graves.Desde o noso club\, queremos facer unha especial mención o extenso grupo de colaboradores que permitiron levar a cabo tódalas numerosas funcións que esixe un evento coma este. Gracias!
END:VEVENT
BEGIN:VEVENT
UID:s3ytd0c06uoj
DTSTART:20151010T103000
SUMMARY:2º Trofeo Limiactiva de Orientación. A Sainza
URL:https://fegado.es/events/view/s3ytd0c06uoj/
DESCRIPTION:10 de outubro. Se publican resultados.08 de outubro - Publicanse horas de saída.04 de outubro - Publicada información adicional cos percorridos.29 de setembro - Correxido o BOLETÍN 0\, incluíndo o servizo de gardería para os fillos dos participantes.25 de setembro - Publicado na web o BOLETÍN 0\, coa información sobre a proba. 
END:VEVENT
BEGIN:VEVENT
UID:j64m32n3k22h
DTSTART:20151017T103000
SUMMARY:Liga gallega O-BM. Coirós
URL:https://fegado.es/events/view/j64m32n3k22h/
DESCRIPTION:CLASIFICACIÓNS PROVISIONAISfacebook:https://www.facebook.com/events/447341922119239/ 
END:VEVENT
BEGIN:VEVENT
UID:72lr45exwvza
DTSTART:20151024T103000
SUMMARY:Liga gallega O-Pie 2015: Abadín (Lugo)
URL:https://fegado.es/events/view/72lr45exwvza/
DESCRIPTION:Proba nº 9 da Liga Galega 2015 de ORI a pé (FEGaDO).Abadín (Lugo)\, sábado\, 24 de outubro de 2015\, 10:30 h.Organiza: Club Fluvial de LugoPoden participar federados (4E) e non federados (INI curta\, 6E\; e INI longa\, 8E). A esta cota hai que engadirlle o aluguer da tarxeta electrónica de control (3E) para quén non dispoñan dela.Mapa realizado en xullo de 2015 por Iván Mera\, que tamén foi o trazador dos percorridos.
END:VEVENT
BEGIN:VEVENT
UID:ldvidubnu6wx
DTSTART:20151031T090000
SUMMARY:Liga Galega de O-BM. Campionato Galego. Coirós (A Coruña)
URL:https://fegado.es/events/view/ldvidubnu6wx/
DESCRIPTION:Hora inicio:09:00 h. Apertura da recepción. Entrega de tarxetas SI.10:00 h. saída dos primeiros corredores.Mapa:Escalas:1/15000para os percorridos oficiais e ini. longa 1/10000 para o percorrido de iniciacióncurtaEquidistancia:5mAqueles corredores que queiran entrar no ranking da Liga Galega de Orientación en BTT deberán levar visible o seu dorsal da Liga Galega de Orientación a Pé.Inscripcións:Ata as 22:00 do martes 27 de outubroCarácterísticas:A zona encontrase no punto de unión de tres concellos (Coirós\, Aranga e Oza-Cesuras\, trátase de unhaformación montañosa de uns 7km de longo por 2 km de ancho\, rodeado polos ríos Fervenzas afluente do Mandeoe os regos de Miñatos e Torarou.Conta con pendentes de moderadas a fortes sobre todo nas ladeiras dos citados ríos e moitas formacións de carácter granítico\, a diferencia de cotas entre o punto mais baixo e a parte mais alta pode acadar os 500 metros de desnivel.A rede de pistas e camiños e variada e extensa así o reflicten os case 180 km totais dos cales 150 kms corresponden a camiños e sendas de ciclabilidade media e regular\, agás en algúns puntos moi concretos e sinalados no mapa (símbolo 714) peligro atravesando camiños ou sendas na maior parte dos casos correspondense con obstáculos tales como árbores caidas atravesando o camino\, noutros casos utilizouse doblemente o citado símbolo para acentuar algúnhas sendas e camiños en moi mal estado e forte pendente\, no que se fai obligatorio baixarse da bicicleta e extremar as precaucións.Existe tamén un alto porcentaxe de cortalumes nos que existe camiño ou senda ben marcado representándose estes cunha trama color amarelo (símbolo 401) e sobreimpresionando a tipología de senda ou camiño que corresponda \, nos casos en que non exista camiño tamén se permite o seu uso para desprazarse enbicicleta sempre tendo enconta que aumentaremos as posibilidades de pinchar\, detalle de cortalumes sen camiños ou sendas .En canto a vexetación\, intentouse manter certa certa correspondencia coa realidade a última revisión realizouse en septembro de 2015\, como novidade realizouse un voo non tripulado con un DRON equipado con unha cámara fotogramétrica\, o producto resultante de este experimento foi a realización dunha ortofoto que servíu para a clasificación mais rápida dunha área bastante complexa.2/3 da superficie correponden a bosques e repoboacións de eucaliptais ainda que conserva na parte alta amplios bosques de pinos\, o tercio restante está formado por monte baixo máis concretamente toxeiras representadas co símbolo 403Nas últimas semanas como e habitual nestas datas hay zonas nas que se están a facer talas\, polo que pode haber ramallada o longo de algúns camiños.Durante a carreira únicamente se poderá circular polas pistas\, camiños\, sendeiros e cortalumes que se atopen debuxados no mapa\, non podendo atallar atravesando campos e montes.No mapa queda tamen prohibida a circulación pola carretera N-VI\, que se encontrará en todos os mapas marcada (símbolo 711) \, unicamente se permitirá cruzar no punto habilitado (símbolo 708) e sempre seguindo as indicacións da organización que estará alí presente.Por regra xeral non está contemplado dentro dos recorridos o uso de ningunha carretera asfaltada\, si e posible que nos encontremos algunha pista asfaltada con unha taxa moi baixa de circulación de vehiculos\, en calquer caso compre tomar sempre precaucións e respetar as normas de circulación.Importante. Durante estas ultimas semanas detectaronse traballos forestais de mellora nalgunhas pistas e cortalumes principais\, que en principio non deberan supoñer un gran cambio na ciclabilidade 
END:VEVENT
BEGIN:VEVENT
UID:idjzj430s88q
DTSTART:20151107T103000
SUMMARY:Liga gallega O-Pie. II MEMORIAL "PATXI ARUFE" Apa Liceo La Paz
URL:https://fegado.es/events/view/idjzj430s88q/
DESCRIPTION: 
END:VEVENT
BEGIN:VEVENT
UID:5tp5mru8555d
DTSTART:20151114T103000
SUMMARY:PonteOriBike 2015 - 4ª proba Liga Galega O-BM
URL:https://fegado.es/events/view/5tp5mru8555d/
DESCRIPTION:Agardámosvos unha vez máis en Ermelo (Bueu) para disputar o PonteOriBike 2015\, proba puntuable para a III Liga Galega de Orientación en BTT. 
END:VEVENT
BEGIN:VEVENT
UID:2h71ihkuh2gp
DTSTART:20151121T090000
SUMMARY:11ª Proba de Liga galega de O-Pe - Score\, en Cambre (Ro-Baliza Club de Orientación)
URL:https://fegado.es/events/view/2h71ihkuh2gp/
DESCRIPTION: 11ª Proba de Liga galega de O-Pe - Score\, en Cambre (Ro-Baliza Club de Orientación).Esperamovos a tod@s en Cambre para un peche de temporada cun Score moi divertido en mapa a estrear.Xa tedes a recopilación de fotos \;)
END:VEVENT
BEGIN:VEVENT
UID:dxlehns9fl1d
DTSTART:20151128T100000
SUMMARY:IV Trofeo OBM Concello de Arteixo
URL:https://fegado.es/events/view/dxlehns9fl1d/
DESCRIPTION:Liga gallega O-BM. 
END:VEVENT
BEGIN:VEVENT
UID:gyjifz10ko6j
DTSTART:20151212T100000
SUMMARY:Campionato GALEGO de REMUDAS
URL:https://fegado.es/events/view/gyjifz10ko6j/
DESCRIPTION: Un ano mais pechamos a tempada co divertido e espectacular Campionato Galego de Remudas\, que este ano celebraremos no mapa do CUVI.O rematar a carreira terá lugar a entrega de trofeos das ligas galegas de Orientacíón a pe\, O-BM e Raid.E para finalizar un pincho. Xa sabedes: comentar a xogada\, retarse para o ano que ven\, etc\,..
END:VEVENT
END:VCALENDAR