BEGIN:VCALENDAR
VERSION:2.0
PRODID:-//hacksw/handcal//NONSGML v1.0//EN
BEGIN:VEVENT
UID:fwzznpirqkuh
DTSTART:20260110T090000
SUMMARY:REUNIÓN TÉCNICA JUECES CONTROLADORES Y ORGANIZACIONES
URL:https://fegado.es/events/view/fwzznpirqkuh/
DESCRIPTION:Primeira charla do ano 2026.O horario será de 10 a 14. Farase na plataforma TEAMSPara incorporarse na charla pincha abaixo.Charla jueces | Meeting-Join | Microsoft Teams 
END:VEVENT
BEGIN:VEVENT
UID:35wfs4b3zdjk
DTSTART:20260110T140000
SUMMARY:1ª PROBA DA XXXV LGDO - ORIENTACIÓN ANO NOVO PADERNE
URL:https://fegado.es/events/view/35wfs4b3zdjk/
DESCRIPTION: O sábado 10 de xaneiro celébrase a a 1ª PROBA DA XXXV LGDO - ORIENTACIÓN ANO NOVO no Concello de Paderne.Publicase o Cartel da Proba e o Boletín 1 Inscripcións na Intranet da FEGADO**Recórdase a importancia de formalizar a licenza 2026 antes do peche das inscripcións (martes 6 de xaneiro) para poder puntuar na Liga e non ter que pagar a licenza de día.
END:VEVENT
BEGIN:VEVENT
UID:t0djwdi2mgdh
DTSTART:20260110T180000
SUMMARY:ROGAINE NOCTURNO (OFICIAL E POPULAR) ANO NOVO PADERNE
URL:https://fegado.es/events/view/t0djwdi2mgdh/
DESCRIPTION: Rogaine Nocturno Oficial (para equiposde deportistas-2/3 persoas- con licenza 2026) e Popular de Promoción (para equiposde deportistas -+de 2- con o sin licenza 2026).
END:VEVENT
BEGIN:VEVENT
UID:9aemvsy88vbg
DTSTART:20260117T000000
SUMMARY:LIGA TRANSFRONTERIZA
URL:https://fegado.es/events/view/9aemvsy88vbg/
DESCRIPTION: 1ª CARREIRA DE LIGA TRANSFRONTERIZA 2026Paredes de Coura (Portugal)Inscripciones e información do evento en:https://www.orioasis.pt/oasis/events.php?action=event_view_info&amp\;eventid=3256
END:VEVENT
BEGIN:VEVENT
UID:gktzzhqwhxr2
DTSTART:20260117T090000
SUMMARY:REUNIÓN TÉCNICA JUECES CRONOMETRAJE OE12
URL:https://fegado.es/events/view/gktzzhqwhxr2/
DESCRIPTION:II Charla de formación.Horario de 10:00 a 14:00Temas a tratar:Material Sportident na FegadoRecurso do xuíz CronometraxeO-ReplayComparación OE12 e OE11OE Multi-díaRemudas con OSDubidas e debatePara participar na formación pincha no abaixoCharla Xuíces cronometraxe OE!" | Meeting-Join | Microsoft Teams 
END:VEVENT
BEGIN:VEVENT
UID:jtgommc45in6
DTSTART:20260124T100000
SUMMARY:REUNIÓN TÉCNICA TRAZADORES
URL:https://fegado.es/events/view/jtgommc45in6/
DESCRIPTION: III Charla de formaciónHorario de 10:00 a 14:00Para asistir a charla pinchar abaixoReunión III Fegado | Meeting-Join | Microsoft Teams
END:VEVENT
BEGIN:VEVENT
UID:cv9r7eu6od25
DTSTART:20260131T100000
SUMMARY:REUNIÓN TÉCNICA CARTOGRAFOS
URL:https://fegado.es/events/view/cv9r7eu6od25/
DESCRIPTION:IV Charla de Formación 2026Horario de 10:00 a 14:00Para incorporarse a charla pinchar abaixoReunión IV Fegado | Meeting-Join | Microsoft Teams
END:VEVENT
BEGIN:VEVENT
UID:sf8zq4dumk29
DTSTART:20260207T173000
SUMMARY:II Liga Escolar de Valdeorras de Orientación | 1ª Jornada
URL:https://fegado.es/events/view/sf8zq4dumk29/
DESCRIPTION:Actividad indoor de promoción del deporte de orientación.La actividad está promovida por la Agrupación Deportiva Valdeorras\, el Servicio Provincial de Deportes de la Xunta de Galicia de Ourense y el club OUR-O\, y con la colaboración y apoyo del Ayuntamiento de A Rúa.Esta 1ª jornada se realizará dentro del pabellón de "O Aguillón" de A Rúa de Valdeorras y está dirigida a escolares nacidos entre los años 2010 y 2017\, que tendrán que ser inscriptos por sus centros escolares.Los mayores de 16 años que quiera participar\, podrán hacerlo gratuitamente gracias al apoyo del periódico La Región\, a través del enlace: pressclub.laregion.es
END:VEVENT
BEGIN:VEVENT
UID:av3as1zhcdiy
DTSTART:20260226T100000
SUMMARY:CAMPEONATO ESCOLAR PROVINCIAL - LUGO
URL:https://fegado.es/events/view/av3as1zhcdiy/
DESCRIPTION: 
END:VEVENT
BEGIN:VEVENT
UID:i7wuc87kx566
DTSTART:20260228T090000
SUMMARY:II Proba da XXXV Liga Galega O-PE
URL:https://fegado.es/events/view/i7wuc87kx566/
DESCRIPTION:Buenos días\, a 12 de enero se publica el cartel de la prueba y el boletin 0A 4 de febrero publicamos el boletín fínal con información de los recorridos. 
END:VEVENT
BEGIN:VEVENT
UID:tcx5xvodajae
DTSTART:20260228T123000
SUMMARY:I Proba da VI Liga Galega de Trail-O
URL:https://fegado.es/events/view/tcx5xvodajae/
DESCRIPTION:Buenos días\, a 12 de enero se publica el cartel de la prueba y el boletín inicial. 4 Febrero \, se publica el boletín final con información técnica de la prueba 
END:VEVENT
BEGIN:VEVENT
UID:8nz4pddbgv9v
DTSTART:20260307T100000
SUMMARY:Campionato Galego Universitario 2026
URL:https://fegado.es/events/view/8nz4pddbgv9v/
DESCRIPTION: A Universidade de Vigo por medio da Área de Benestar\, Saúde e Deporte\, convida a toda a comunidade universitaria a participar neste evento no Campus de Pontevedra.27/02 Publícase boletín final con distancias e indicacións05/03 Publícanse horas de salida en O-replay07/03 Publícanse resultados definitivos en pdf (ver parciais en O-replay)
END:VEVENT
BEGIN:VEVENT
UID:rlel1tphocyi
DTSTART:20260307T100000
SUMMARY:Campionato Xunta de Galicia RAID
URL:https://fegado.es/events/view/rlel1tphocyi/
DESCRIPTION:MELIDE RAID - Campionato Xunta de GaliciaTrátase dun Raid de 8 h de duración máxima. Estará dividido en 3 seccións de diferente duración e diferentes disciplinas deportivas: Orientación específica\, Trekking\, BTT e probas especiais. Será un raid no que a maioría de equipos chegará a meta collendo todas as balizas.Trátase dun raid en bucles\, todas as transicións estarán ubicadas no mesmo emprazamento\, facendo así un raid máis cómodo para os equipos. Os equipos 2+1 poderán facer un relevo na metade de unha das seccións. Para chegar a ese punto facilitarase a ubicación o propio día da carreira.2 Marzo: Publicado Boletín final tras corrección de erratas4 Marzo: Publicados Pre-Briefing y Road Books de cada categoría
END:VEVENT
BEGIN:VEVENT
UID:rpilxs42vd2z
DTSTART:20260307T110000
SUMMARY:O-Pé paralela ao Campionato Galego de Raid en Melide
URL:https://fegado.es/events/view/rpilxs42vd2z/
DESCRIPTION: O-PéCon motivo da celebración do Camionato Galego de Raid en Melide abrirase unha sección O-Pé do raid para que calquer que se inscriba poda disfrutalaHora e saída O evento terá lugar o sábado 7 de marzo dende as 11:00 no Parque Rosalia (Secretaría) para dar comezo coas saídas dos corredores de forma gradual\, podendo iniciar a actividade de 11:00 a 11:30. Tendo un tempo máximo de 2h para realizar a actividade.PercorridoO percorrido será de aproximadamente 8\,5Km CronometraxeO cronometraxe Sport Ident realizarase mediante tarxetas de control P-Cards ou SportIdenr\, todos aqueles inscritos que non teñan Pinza ou P-Card proporcionaráselle unha que será devolta ao final da proba\, a súa perdida ocasionará un recargo de 30?CustoSocios A.d. Cerne e socios Aromon 3? +gastos xestiónNon socios 5? adultos e 2? menos de 16anos +gastos xestiónData límite e aforoDomingo día 1 de marzo ou ata acadar as 100 prazasMapaMapa a escala 1:7500 (1cm no mapa representa 75m na realidade) con curvas de nivel cada 5m (Eq=5m) Información de interesÉ obrigatorio o uso de calzado e roupa adecuada para a realización de deporte\, aconséllase pantalón longo\, tede en conta que a actividade transcorre por camiños\, sendas\, prados e bosque. Pódese facer uso das duchas no Pavillón municipal ao finalizar. A actividade transcorre por camiños que están abertos ao tráfico polo que tomaremos especial precaución cando transcurramos por eles. Coa inscripción acéptase que A.d. Cerne e Aromon poidan facer uso dos dereitos de imaxe d@s participantes. O mapa pertence a A.d. Cerne e queda prohibida a súa reprodución e uso sin consentimento.ContactoPara calquer dúbida ou información contactar con Rubén no 666501339 ou en adcerne@gmail.com Organizan
END:VEVENT
BEGIN:VEVENT
UID:5z923m500sqq
DTSTART:20260314T100000
SUMMARY:3º PRUEBA OPIE - XXI TROFEO EL PROGRESO - CONCELLO DE LUGO
URL:https://fegado.es/events/view/5z923m500sqq/
DESCRIPTION: 
END:VEVENT
BEGIN:VEVENT
UID:yuce46c0tuln
DTSTART:20260326T103000
SUMMARY:Campionato Escolar Provincial de Ourense de Orientación 2026
URL:https://fegado.es/events/view/yuce46c0tuln/
DESCRIPTION:O campionato escolar provincial de orientación vaise realizar o 26 de marzo de 2026 no Parque Municipal do Arenteiro (Carballiño)\, e está dirixido ao público escolar entre os anos 2010 e 2013.A organización estará a cargo do Servizo Provincial de Deportes de Ourense (Secretaría Xeral para o Deporte) da Xunta de Galicia\, a Federación Galega de Orientación\, coa colaboración e apoio do Concello do Carballiño\, a A.D. Limiactiva e o club OUR-O.Para formalizar a inscrición nesta proba\, a entidade terá que estar preinscrita na ACTIVIDADE DEPORTIVA de Orientación. Para máis información sobre este aspecto\, dirixirse ao Servizo Provincial de Deportes de Ourense (en horario de mañá) chamando ao teléfono 988 386 050 ou no correo: deportes.ourense@xunta.gal13/03. Publicación del boletín
END:VEVENT
BEGIN:VEVENT
UID:0mt7hpy7wgrf
DTSTART:20260328T103000
SUMMARY:I PROBA da XIV Liga Galega de MTBO Santiso D Larga
URL:https://fegado.es/events/view/0mt7hpy7wgrf/
DESCRIPTION:3 de marzo\, se publica el cartel de la prueba y el boletin 0 que incluye el enlace para inscribirse los deportistas no pertenecientes a fegado.16 de marzo\, se publica boletin final\, con distancias y desniveles.Para inscribir a los ñiños en futuros-oblkers usar el Google form. Gracias 
END:VEVENT
BEGIN:VEVENT
UID:gro10uvvzoie
DTSTART:20260328T163000
SUMMARY:II PROBA da XIV Liga Galega de MTBO Santiso Sprint
URL:https://fegado.es/events/view/gro10uvvzoie/
DESCRIPTION:3 de marzo\, se publica el cartel de la prueba y el boletin 0 que incluye el enlace para inscribirse los deportistas no pertenecientes a fegado.16 de marzo\, se publica el boletín final con distancias y desniveles.Para inscribirse a los niños en futuros-obikers usar el Google form. Gracias 
END:VEVENT
BEGIN:VEVENT
UID:rtmu1hj633za
DTSTART:20260411T100000
SUMMARY:Campeonato Galego e de España de U-Rogaining
URL:https://fegado.es/events/view/rtmu1hj633za/
DESCRIPTION: Información e inscripcións a través de Sico en Fedo. Calquera dúbida podedes escribirnos a razapalleira@razapalleira.com.23/02/2026 -&gt\; Publícase boletín 123/02/2026 -&gt\; Publícase cartel30/03/2026 -&gt\; Publícase boletín final10/04/2026 -&gt\; Descricións controis e autorización menores
END:VEVENT
BEGIN:VEVENT
UID:0dfv5ucdx6gg
DTSTART:20260418T100000
SUMMARY:2ª LGR - OBJETIVO FENE (Gallaecia Raid)
URL:https://fegado.es/events/view/0dfv5ucdx6gg/
DESCRIPTION: 2ª LGR - RAID FENE (Gallaecia Raid)Boletin 2 da proba adjunto. Web para inscripciones a traves de Tracktherace
END:VEVENT
BEGIN:VEVENT
UID:7b6e6jcydgxl
DTSTART:20260419T170000
SUMMARY:II Liga Escolar de Valdeorras de Orientación | 3ª Jornada
URL:https://fegado.es/events/view/7b6e6jcydgxl/
DESCRIPTION:Actividad de promoción del deporte de orientación.La actividad está promovida por la Agrupación Deportiva Valdeorras\, el Servicio Provincial de Deportes de la Xunta de Galicia de Ourense y el club OUR-O\, y con la colaboración y apoyo del Ayuntamiento de A Rúa.Esta 3ª jornada y última jornada se realizará en el área recreativa de "O Salgueiral" de O Barco de Valdeorras y está dirigida a escolares nacidos entre los años 2010 y 2017\, que tendrán que ser inscriptos por sus centros escolares.Antes de empezar se realizará una jornada de puertas abiertas\, donde se explicará la metodología de las carreras y se hará un ejercicio práctico. Los mayores de 16 años que quiera participar\, podrán hacerlo gratuitamente gracias al apoyo de Iberdrola\, a través del ENLACE
END:VEVENT
BEGIN:VEVENT
UID:jyww6z0muhfs
DTSTART:20260509T103000
SUMMARY:1ª Proba da Liga Galega de O-PÉ nos Parques de TRECE ROSAS - AS GALERAS (OLEIROS) 9 de maio 2026 | org. LICEO / ÁRTABROS / GALLAECIA
URL:https://fegado.es/events/view/jyww6z0muhfs/
DESCRIPTION: Primeira proba da Liga Galega de O-PÉ SPRINT cunha proba organizada conxuntamente polo Club de Orientación Liceo\, Sociedad de Montaña Ártabros e Gallaecia Raid \, no Concello de Oleiros na contorna da Facultade de Ciencias do Deporte e Educación Física (antiga INEF) e Parque das Galeras e das 13 Rosas.Seguemento e previsións (serán actualizadas)15 de abril 2026. Publicamos BOLETÍN 0 e CARTEL das probas.
END:VEVENT
BEGIN:VEVENT
UID:3gqq6mg3r8uo
DTSTART:20260509T103000
SUMMARY:4ª Proba da Liga Galega de O-PÉ en LIÁNS (OLEIROS) 9 maio 2026 | org. LICEO / ÁRTABROS / GALLAECIA
URL:https://fegado.es/events/view/3gqq6mg3r8uo/
DESCRIPTION:Cuarta (4ª) proba da Liga Galega de O-PÉ bosque cunha proba organizada conxuntamente polo Club de Orientación Liceo\, Sociedad de Montaña Ártabros e Gallaecia Raid \, no Concello de Oleiros na contorna da Facultade de Ciencias do Deporte e Educación Física (antiga INEF)\, Praia de Bastiagueiro e Bosque dos Veciños.Seguemento e previsións (serán actualizadas)15 de abril 2026. Publicamos BOLETÍN 0 e CARTEL das probas.
END:VEVENT
BEGIN:VEVENT
UID:k4dnn1cfyw5h
DTSTART:20260510T110000
SUMMARY:Trail-O en Monteporreiro 
URL:https://fegado.es/events/view/k4dnn1cfyw5h/
DESCRIPTION: Proba de promoción xunto coa asociación Amizade Formato Pre-O
END:VEVENT
BEGIN:VEVENT
UID:sdd81fx67601
DTSTART:20260511T103000
SUMMARY:Campionato Escolar Provincial da Coruña
URL:https://fegado.es/events/view/sdd81fx67601/
DESCRIPTION:Este ano 2026 o Campionato Escolar Provincial da Coruña vaise celebrar o día 11 de maio na vila de Negreira.Organizado polo Servizo de Deportes da Coruña (Secretaría Xeral para o Deporte da Xunta de Galicia) a través do programa Xogade\, contará ca colaboración do Concello de Negreira\, a Asociación Deportiva Escolar As Rías e o club ADC Arnela da Federacion Galega de Orientación (FEGADO).As inscricións formalizaranse a través da plataforma Xogade. Os centros deberán estar dados de alta nesta actividade e anotar ós alumnos/as clasificados ou escollidos.Para máis información consultar co Servizo de Deportes de A Coruña. 
END:VEVENT
BEGIN:VEVENT
UID:53sve3ys86lw
DTSTART:20260530T100000
SUMMARY:2ª LGTO (Oleiros) - Gallaecia / Artabros / Liceo / 
URL:https://fegado.es/events/view/53sve3ys86lw/
DESCRIPTION:2 prueba de liga Trail O - Sprint Calendario Fegado.Organizamos junto con nuestros amigos de Artabros y Liceo el mes de la Orientación en Oleiros. Durante dos fines de semana tendremos varias pruebas de orientación. Sabado 9 de Mayo: Pruebas organizadas por Artabros y Liceo con colaboración Gallaecia Raid. (Distancia Media y Sprint)Sábado 30 de Mayo: Pruebas organizadas por Gallaecia Raid en colaboración con Artabros y Liceo. (Dos Sprint\, de monte y urbano y un Trail O).Pruebas en colaboración tambien con INEF Coruña para celebrar el 40 aniversario de la universidad del deporte de A Coruña. Mas información en proximos boletines. 
END:VEVENT
BEGIN:VEVENT
UID:9mn5z24xkj8b
DTSTART:20260530T100000
SUMMARY:3ª LGDO Sprint (Oleiros) - Gallaecia / Artabros / Liceo
URL:https://fegado.es/events/view/9mn5z24xkj8b/
DESCRIPTION:3ª LGDO Sprint (Oleiros)Organizamos junto con nuestros amigos de Artabros y Liceo el mes de la Orientación en Oleiros. Durante dos fines de semana tendremos varias pruebas de orientación. Sabado 9 de Mayo: Pruebas organizadas por Artabros y Liceo con colaboración Gallaecia Raid. (Distancia Media y Sprint)Sábado 30 de Mayo: Pruebas organizadas por Gallaecia Raid en colaboración con Artabros y Liceo. (Dos Sprint\, de monte y urbano y un Trail O).Pruebas en colaboración tambien con INEF Coruña para celebrar el 40 aniversario de la universidad del deporte de A Coruña. Mas información en proximos boletines. 
END:VEVENT
BEGIN:VEVENT
UID:h731bco2vbuo
DTSTART:20260530T100000
SUMMARY: 2ª LGDO Sprint (Oleiros) - Gallaecia / Artabros / Liceo
URL:https://fegado.es/events/view/h731bco2vbuo/
DESCRIPTION: 2ª LGDO Sprint (Oleiros)Organizamos junto con nuestros amigos de Artabros y Liceo el mes de la Orientación en Oleiros. Durante dos fines de semana tendremos varias pruebas de orientación. Sabado 9 de Mayo: Pruebas organizadas por Artabros y Liceo con colaboración Gallaecia Raid. (Distancia Media y Sprint)Sábado 30 de Mayo: Pruebas organizadas por Gallaecia Raid en colaboración con Artabros y Liceo. (Dos Sprint\, de monte y urbano y un Trail O).Pruebas en colaboración tambien con INEF Coruña para celebrar el 40 aniversario de la universidad del deporte de A Coruña. Mas información en proximos boletines. 
END:VEVENT
BEGIN:VEVENT
UID:i140g1ltxp6n
DTSTART:20260627T100000
SUMMARY:Campionato Xunta de Galicia de Media Distancia
URL:https://fegado.es/events/view/i140g1ltxp6n/
DESCRIPTION: LGOP no monte Siradella - O Grove. Máis información próximamente
END:VEVENT
BEGIN:VEVENT
UID:rwz4u8lksa5s
DTSTART:20260627T140000
SUMMARY:Campionato Xunta de Galicia de Trail-O
URL:https://fegado.es/events/view/rwz4u8lksa5s/
DESCRIPTION: Trail-O en formato Pre-OMonte Siradella - O Grove. Tras o campionato xunta de galicia de media distancia.
END:VEVENT
BEGIN:VEVENT
UID:7d8mfofb0dwb
DTSTART:20260628T100000
SUMMARY:IV Proba LGSprint 
URL:https://fegado.es/events/view/7d8mfofb0dwb/
DESCRIPTION:Sprint de Bosque O Grove Mais información próximamente
END:VEVENT
BEGIN:VEVENT
UID:t9u2tqgvauzd
DTSTART:20260808T100000
SUMMARY:XI Trail Andaina Orientación Gulliver Fest
URL:https://fegado.es/events/view/t9u2tqgvauzd/
DESCRIPTION: XI Trail Andaina Orientación Gulliver Fest.Jornada de Orientación actividad dentro del calendario del Festival Gulliver Fest 
END:VEVENT
BEGIN:VEVENT
UID:tydk0599ka48
DTSTART:20260905T100000
SUMMARY:4ª LGMTBO - LONGA / Campionato Xunta de Galicia 
URL:https://fegado.es/events/view/tydk0599ka48/
DESCRIPTION: 4ª LGMTBO - LONGA / Campionato Xunta de Galicia Arteixo\, A Coruña
END:VEVENT
BEGIN:VEVENT
UID:1o5pjjpzzzjd
DTSTART:20260912T100000
SUMMARY:CAMPIONATO XUNTA DE GALICIA DE DISTANCIA LONGA DE O-PÉ | PENA DOS MONTEIROS
URL:https://fegado.es/events/view/1o5pjjpzzzjd/
DESCRIPTION: A SM Ártabros organiza o vindeiro sábado 12 de setembro no mapa de Pena dos Monteiros (Goente) a 6ª proba da Liga Galega de Orientación a Pé\, que será o Campionato Xunta de Galicia de Distancia Longa.
END:VEVENT
BEGIN:VEVENT
UID:9366qvl74b8r
DTSTART:20261003T100000
SUMMARY:8ª proba XXXV da Liga Galega de O-Pé
URL:https://fegado.es/events/view/9366qvl74b8r/
DESCRIPTION: 
END:VEVENT
BEGIN:VEVENT
UID:qasgj9s6bm9o
DTSTART:20261003T170000
SUMMARY:5ª proba da VII Liga Galega de Sprint (O-Pé)
URL:https://fegado.es/events/view/qasgj9s6bm9o/
DESCRIPTION: 
END:VEVENT
BEGIN:VEVENT
UID:vbhd5wdnytm4
DTSTART:20261121T000000
SUMMARY:II TRAIL NOCTURNO GALLAECIA RAID
URL:https://fegado.es/events/view/vbhd5wdnytm4/
DESCRIPTION: Estamos moi contentos de poder anunciar que voltamos a organizar unha carreira de orientacion Nocturna en Gallaecia Raid.Despóis da acollida do ano pasado\, estamos mio contentos de anunciar a segunda edición da Nocturna de Bergondo. Proba de orientación para todos os públicos\, para facer so o acompañado. Preparade os vosos compás e a luz frontal para ese día.Agardamos por todos vos!!Mais información nos próximos boletíns.
END:VEVENT
BEGIN:VEVENT
UID:z76njucx4x8j
DTSTART:20261128T100000
SUMMARY:CAMPIONATO XUNTA DE GALICIA DE REMUDAS MIXTAS (A Coruña)
URL:https://fegado.es/events/view/z76njucx4x8j/
DESCRIPTION: A SM Ártabros xunto co Club de Orientación Liceo\, organizan o sábado 28 de novembro o Campionato Xunta de Galicia de Remudas Mixtas en A Coruña para despedir esta tempada 2026. 
END:VEVENT
BEGIN:VEVENT
UID:0m65aljjzmtm
DTSTART:20261220T100000
SUMMARY: XIII Trail e Andaina de Orientación Ledoño 26 - Gallaecia Raid
URL:https://fegado.es/events/view/0m65aljjzmtm/
DESCRIPTION:XIII Trail e Andaina de Orientación Ledoño 26 - Gallaecia Raid 
END:VEVENT
END:VCALENDAR